BEGIN:VCALENDAR
VERSION:2.0
CALSCALE:GREGORIAN
PRODID:-//Diputació de Barcelona//DibaCMS//EN
BEGIN:VEVENT
UID:13862
DTSTAMP:20260420T034103
DTSTART:20221015T180000
DTEND:20221015T180000
SUMMARY:El Club del llibre, amb Toni Cruanyes 
LOCATION:Carrer de Jaume I, 9 (Can Pelegrí) 08120 La Llagosta
METHOD:PUBLISH
X-WR-CALNAME:llagosta@llagosta.cat
X-WR-TIMEZONE:Europe/Madrid
DESCRIPTION:
URI:https://www.llagosta.cat/participacio/agenda-i-activitats-de-les-associacions/el-club-del-llibre-amb-toni-cruanyes-.html
CLASS:PUBLIC
END:VEVENT
END:VCALENDAR
