BEGIN:VCALENDAR
VERSION:2.0
CALSCALE:GREGORIAN
PRODID:-//Diputació de Barcelona//DibaCMS//EN
BEGIN:VEVENT
UID:13839
DTSTAMP:20260421T090609
DTSTART:20220925T093000
DTEND:20220925T093000
SUMMARY:33a Cursa Popular Els 10 de la Llagosta
LOCATION:Inici de la cursa al carrer de l'Estació. 
METHOD:PUBLISH
X-WR-CALNAME:llagosta@llagosta.cat
X-WR-TIMEZONE:Europe/Madrid
DESCRIPTION:
URI:https://www.llagosta.cat/participacio/agenda-i-activitats-de-les-associacions/33a-cursa-popular-els-10-de-la-llagosta.html
CLASS:PUBLIC
END:VEVENT
END:VCALENDAR
