BEGIN:VCALENDAR
VERSION:2.0
CALSCALE:GREGORIAN
PRODID:-//Diputació de Barcelona//DibaCMS//EN
BEGIN:VEVENT
UID:13343
DTSTAMP:20260422T051443
DTSTART:20220129T120000
DTEND:20220129T120000
SUMMARY:Contes i música en família
LOCATION:Carrer de Jaume I, 9 (Can Pelegrí) 08120 La Llagosta
METHOD:PUBLISH
X-WR-CALNAME:llagosta@llagosta.cat
X-WR-TIMEZONE:Europe/Madrid
DESCRIPTION:
URI:https://www.llagosta.cat/participacio/agenda-i-activitats-de-les-associacions/13343-contes-i-musica-en-familia.html
CLASS:PUBLIC
END:VEVENT
END:VCALENDAR
