BEGIN:VCALENDAR
VERSION:2.0
CALSCALE:GREGORIAN
PRODID:-//Diputació de Barcelona//DibaCMS//EN
BEGIN:VEVENT
UID:13084
DTSTAMP:20260424T052213
DTSTART:20210728T000000
DTEND:20220728T000000
SUMMARY:L’Hospital de Mollet té 38 persones ingressades per la Covid-19
LOCATION:
METHOD:PUBLISH
X-WR-CALNAME:llagosta@llagosta.cat
X-WR-TIMEZONE:Europe/Madrid
DESCRIPTION:L’Hospital de Mollet té 38 persones ingressades per la Covid-19, que és la mateixa xifra que la setmana passada. Segons la Fundació Sanitària Mollet, en l’última setmana s’han donat d’alta a 38 persones, amb un total de 1.515, i hi ha hagut dues defuncions. A més, el risc de rebrot en el Baix Vallès se situa en 980 punts i l’Rt en 0,92. 

URI:https://www.llagosta.cat/actualitat/noticies/lhospital-de-mollet-te-38-persones-ingressades-per-la-covid-19.html
CLASS:PUBLIC
END:VEVENT
END:VCALENDAR
