BEGIN:VCALENDAR
VERSION:2.0
CALSCALE:GREGORIAN
PRODID:-//Diputació de Barcelona//DibaCMS//EN
BEGIN:VEVENT
UID:12238
DTSTAMP:20260425T012646
DTSTART:20200430T090000
DTEND:20210430T000000
SUMMARY:Pla d'ajuts al comerç per reactivar l'activitat econòmica davant l'emergència sanitària del Covid-19
LOCATION:
METHOD:PUBLISH
X-WR-CALNAME:llagosta@llagosta.cat
X-WR-TIMEZONE:Europe/Madrid
DESCRIPTION:Ja es poden sol·licitar les subvencions previstes al Pla d’Ajuts impulsat pel Consorci de Comerç, Artesania i Moda (CCAM) del Departament d’Empresa i Coneixement. El Pla d’ajuts, dotat amb nou milions d'euros, inclou set programes específics, i va dirigit a autònoms, pimes i microempreses de comerç al detall i serveis, artesania i moda, tant individuals com associades o agrupades, aquelles empreses obligades al tancament arran de la declaració de l’estat d’alarma o que han patit un descens del 70% de la facturació, en els mesos de març i abril, respecte els mateixos mesos de 2019. En aquest context, s’entén que són empreses de serveis a la persona els tallers mecànics, els serveis fotogràfics, copisteries i arts gràfiques, serveis de reparacions, tintoreria i bugaderies, perruqueria i salons d’estètica i bellesa, bars i restaurants, i serveis de menjar preparat i càtering.

URI:https://www.llagosta.cat/actualitat/noticies/pla-dajuts-al-comerc-per-reactivar-lactivitat-economica-davant-lemergencia-sanitaria-del-covid-19.html
CLASS:PUBLIC
END:VEVENT
END:VCALENDAR
