BEGIN:VCALENDAR
VERSION:2.0
CALSCALE:GREGORIAN
PRODID:-//Diputació de Barcelona//DibaCMS//EN
BEGIN:VEVENT
UID:12006
DTSTAMP:20260420T162001
DTSTART:20200131T000000
DTEND:20210130T000000
SUMMARY:El Ple aprova una moció en contra de la supressió de jutjats de violència de gènere
LOCATION:
METHOD:PUBLISH
X-WR-CALNAME:llagosta@llagosta.cat
X-WR-TIMEZONE:Europe/Madrid
DESCRIPTION:El Ple de l’Ajuntament de la Llagosta va aprovar ahir, amb el vot a favor de tots els grups municipals, una moció de suport al manteniment de diversos jutjats de violència sobre la dona. La proposta es va incloure a l’ordre del dia del ple amb caràcter d’urgència. El Consistori es posiciona així en contra de la proposta del Tribunal Superior de Justícia de Catalunya de suprimir alguns jutjats de violència de gènere, entre ells el de Mollet del Vallès.

URI:https://www.llagosta.cat/actualitat/noticies/el-ple-aprova-una-mocio-en-contra-de-la-supressio-de-jutjats-de-violencia-de-genere.html
CLASS:PUBLIC
END:VEVENT
END:VCALENDAR
