BEGIN:VCALENDAR
VERSION:2.0
CALSCALE:GREGORIAN
PRODID:-//Diputació de Barcelona//DibaCMS//EN
BEGIN:VEVENT
UID:11673
DTSTAMP:20260425T131340
DTSTART:20190918T000000
DTEND:20200917T000000
SUMMARY:L'alcalde assumeix les funcions de la Regidoria d'Esports durant l'absència d'Antonio García Robledo
LOCATION:
METHOD:PUBLISH
X-WR-CALNAME:llagosta@llagosta.cat
X-WR-TIMEZONE:Europe/Madrid
DESCRIPTION:L'alcalde de la Llagosta, Óscar Sierra, ha assumit les tasques de la Regidoria d'Esports mentre que l'actual edil d'Esports i jugador d'handbol, Antonio García Robledo, estigui jugant amb l'equip francès del Nantes. Tal com està previst en el decret de delegacions de funcions, l'alcalde s'encarregarà de desenvolupar aquestes en el cas d'absència temporal dels regidors i regidores.

URI:https://www.llagosta.cat/actualitat/noticies/lalcalde-assumeix-les-funcions-de-la-regidoria-desports-durant-labsencia-dantonio-garcia-robledo.html
CLASS:PUBLIC
END:VEVENT
END:VCALENDAR
